BEGIN:VCALENDAR
PRODID:-//Hannon Hill Events//Cascade CMS//EN
VERSION:2.0
X-WR-CALNAME:Lunch and Learn: PEEC Celebrates Women&apos\;s History Month
X-WR-TIMEZONE:America/New_York
BEGIN:VTIMEZONE
TZID:America/New_York
BEGIN:DAYLIGHT
TZOFFSETFROM:-0500
TZOFFSETTO:-0400
TZNAME:EDT
DTSTART:19700308T020000
RRULE:FREQ=YEARLY;BYMONTH=3;BYDAY=2SU
END:DAYLIGHT
BEGIN:STANDARD
TZOFFSETFROM:-0400
TZOFFSETTO:-0500
TZNAME:EST
DTSTART:19701101T020000
RRULE:FREQ=YEARLY;BYMONTH=11;BYDAY=1SU
END:STANDARD
END:VTIMEZONE
BEGIN:VEVENT
DTSTART:20260304T111500
DTEND:20260304T121500
DTSTAMP:20260419T193654
UID:9a807526ac1e046b44d46d1fdae94588
CREATED:20260226T101035
DESCRIPTION:Join PEEC for a dynamic and interactive Lunch and Learn in hon
or of Women&#8217\;s History Month.
LAST-MODIFIED:20260226T113029
SEQUENCE:0
STATUS:CONFIRMED
SUMMARY:Lunch and Learn: PEEC Celebrates Women&apos\;s History Month
TRANSP:OPAQUE
END:VEVENT
END:VCALENDAR
