BEGIN:VCALENDAR
PRODID:-//Hannon Hill Events//Cascade CMS//EN
VERSION:2.0
X-WR-CALNAME:IUP 150th Commemorative Tree Dedication
X-WR-TIMEZONE:America/New_York
BEGIN:VTIMEZONE
TZID:America/New_York
BEGIN:DAYLIGHT
TZOFFSETFROM:-0500
TZOFFSETTO:-0400
TZNAME:EDT
DTSTART:19700308T020000
RRULE:FREQ=YEARLY;BYMONTH=3;BYDAY=2SU
END:DAYLIGHT
BEGIN:STANDARD
TZOFFSETFROM:-0400
TZOFFSETTO:-0500
TZNAME:EST
DTSTART:19701101T020000
RRULE:FREQ=YEARLY;BYMONTH=11;BYDAY=1SU
END:STANDARD
END:VTIMEZONE
BEGIN:VEVENT
DTSTART:20260422T160000
DTEND:20260422T170000
DTSTAMP:20260418T192909
UID:96462120ac1e046b2dddf15732ac1402
CREATED:20260416T083111
DESCRIPTION:Join IUP in celebrating Earth Day with a special tree dedicati
on marking the university&#8217\;s 150th anniversary and the 25th annivers
ary of the Arboretum. A White Oak (Quercus alba) will be planted to commem
orate this milestone and symbolize strength\, longevity\, and growth.
LAST-MODIFIED:20260416T091957
SEQUENCE:0
STATUS:CONFIRMED
SUMMARY:IUP 150th Commemorative Tree Dedication
TRANSP:OPAQUE
END:VEVENT
END:VCALENDAR
