BEGIN:VCALENDAR
PRODID:-//Hannon Hill Events//Cascade CMS//EN
VERSION:2.0
X-WR-CALNAME:Artist Talk: Brian Jones on the Visual Language of Stagecraft
X-WR-TIMEZONE:America/New_York
BEGIN:VTIMEZONE
TZID:America/New_York
BEGIN:DAYLIGHT
TZOFFSETFROM:-0500
TZOFFSETTO:-0400
TZNAME:EDT
DTSTART:19700308T020000
RRULE:FREQ=YEARLY;BYMONTH=3;BYDAY=2SU
END:DAYLIGHT
BEGIN:STANDARD
TZOFFSETFROM:-0400
TZOFFSETTO:-0500
TZNAME:EST
DTSTART:19701101T020000
RRULE:FREQ=YEARLY;BYMONTH=11;BYDAY=1SU
END:STANDARD
END:VTIMEZONE
BEGIN:VEVENT
DTSTART:20260423T183000
DTEND:20260423T203000
DTSTAMP:20260422T193109
UID:975b2e44ac1e046b2dddf1572fd0da9b
CREATED:20260416T133348
DESCRIPTION:The University Museum at IUP invites you to an insightful Arti
st Talk with Brian Jones on Thursday\, April 23\, at 6:30 p.m. at the Univ
ersity Museum in Sutton Hall.
LAST-MODIFIED:20260416T140257
SEQUENCE:0
STATUS:CONFIRMED
SUMMARY:Artist Talk: Brian Jones on the Visual Language of Stagecraft
TRANSP:OPAQUE
END:VEVENT
END:VCALENDAR
