BEGIN:VCALENDAR
PRODID:-//Hannon Hill Events//Cascade CMS//EN
VERSION:2.0
X-WR-CALNAME:Chalk the Walk
X-WR-TIMEZONE:America/New_York
BEGIN:VTIMEZONE
TZID:America/New_York
BEGIN:DAYLIGHT
TZOFFSETFROM:-0500
TZOFFSETTO:-0400
TZNAME:EDT
DTSTART:19700308T020000
RRULE:FREQ=YEARLY;BYMONTH=3;BYDAY=2SU
END:DAYLIGHT
BEGIN:STANDARD
TZOFFSETFROM:-0400
TZOFFSETTO:-0500
TZNAME:EST
DTSTART:19701101T020000
RRULE:FREQ=YEARLY;BYMONTH=11;BYDAY=1SU
END:STANDARD
END:VTIMEZONE
BEGIN:VEVENT
DTSTART:20260429T090000
DTEND:20260429T190000
DTSTAMP:20260418T192838
UID:9769ce8cac1e046b2dddf1576d072ece
CREATED:20260416T134947
DESCRIPTION:On April 29\, use the sidewalk as your canvas in the Oak Grove
 from 9:00 a.m. to 7:00 p.m.! Something you want to express\, question\, o
r share with others? We&#8217\;ll provide the chalk (and cash prizes )\, y
ou bring the creativity.
LAST-MODIFIED:20260416T153235
SEQUENCE:0
STATUS:CONFIRMED
SUMMARY:Chalk the Walk
TRANSP:OPAQUE
END:VEVENT
END:VCALENDAR
