BEGIN:VCALENDAR
PRODID:-//Hannon Hill Events//Cascade CMS//EN
VERSION:2.0
X-WR-CALNAME:Workshop: Beginner Excel Training
X-WR-TIMEZONE:America/New_York
BEGIN:VTIMEZONE
TZID:America/New_York
BEGIN:DAYLIGHT
TZOFFSETFROM:-0500
TZOFFSETTO:-0400
TZNAME:EDT
DTSTART:19700308T020000
RRULE:FREQ=YEARLY;BYMONTH=3;BYDAY=2SU
END:DAYLIGHT
BEGIN:STANDARD
TZOFFSETFROM:-0400
TZOFFSETTO:-0500
TZNAME:EST
DTSTART:19701101T020000
RRULE:FREQ=YEARLY;BYMONTH=11;BYDAY=1SU
END:STANDARD
END:VTIMEZONE
BEGIN:VEVENT
DTSTART:20260204T090000
DTEND:20260204T110000
DTSTAMP:20260418T194139
UID:051d4cbbac1e046b72832eff74a671a1
CREATED:20260128T095852
DESCRIPTION:This beginner Excel training session covers essential skills\,
 including navigating the user interface\, entering data\, basic formattin
g\, using fundamental functions like SUM and AVERAGE\, and printing workbo
oks.
LAST-MODIFIED:20260128T100747
SEQUENCE:0
STATUS:CONFIRMED
SUMMARY:Workshop: Beginner Excel Training
TRANSP:OPAQUE
END:VEVENT
END:VCALENDAR
