BEGIN:VCALENDAR
PRODID:-//Hannon Hill Events//Cascade CMS//EN
VERSION:2.0
X-WR-CALNAME:Web Accessibility: How to Use Siteimprove
X-WR-TIMEZONE:America/New_York
BEGIN:VTIMEZONE
TZID:America/New_York
BEGIN:DAYLIGHT
TZOFFSETFROM:-0500
TZOFFSETTO:-0400
TZNAME:EDT
DTSTART:19700308T020000
RRULE:FREQ=YEARLY;BYMONTH=3;BYDAY=2SU
END:DAYLIGHT
BEGIN:STANDARD
TZOFFSETFROM:-0400
TZOFFSETTO:-0500
TZNAME:EST
DTSTART:19701101T020000
RRULE:FREQ=YEARLY;BYMONTH=11;BYDAY=1SU
END:STANDARD
END:VTIMEZONE
BEGIN:VEVENT
DTSTART:20251007T090000
DTEND:20251007T093000
DTSTAMP:20260421T200758
UID:7731610cac1e046b439ebb208c085ada
CREATED:20250923T112908
DESCRIPTION:In this 30-minute session\, we&#8217\;ll introduce you to Site
improve\, a tool that can help identify accessibility issues beyond the ba
sics. Topics covered include creating your Siteimprove account\, how to na
vigate the system\, and using Siteimprove directly in Cascade through the 
integrated tool.
LAST-MODIFIED:20250923T113601
SEQUENCE:0
STATUS:CONFIRMED
SUMMARY:Web Accessibility: How to Use Siteimprove
TRANSP:OPAQUE
END:VEVENT
END:VCALENDAR
